BEGIN:VCALENDAR
VERSION:2.0
PRODID:-//wp-events-plugin.com//6.4.7.1//EN
TZID:America/Toronto
X-WR-TIMEZONE:America/Toronto
BEGIN:VEVENT
UID:217@buddhiststudies.utoronto.ca
DTSTART;TZID=America/Toronto:20260129T151000
DTEND;TZID=America/Toronto:20260129T180000
DTSTAMP:20260116T204937Z
URL:https://buddhiststudies.utoronto.ca/events/film-friends-high-places/
SUMMARY:Theravada Buddhism and Film: Friends in High Places
DESCRIPTION:Join us for three events in a lecture and film series.
ATTACH;FMTTYPE=image/jpeg:https://buddhiststudies.utoronto.ca/wp-content/u
 ploads/2026/01/Theravada-Buddhism-Film-Series-2026-IG-45.png
CATEGORIES:Film
LOCATION:Jackman Humanities Building\, Rm 213\, 170 Saint George Street\, T
 oronto\, ON\, M5R 2M8\, Canada
X-APPLE-STRUCTURED-LOCATION;VALUE=URI;X-ADDRESS=170 Saint George Street\, T
 oronto\, ON\, M5R 2M8\, Canada;X-APPLE-RADIUS=100;X-TITLE=Jackman Humaniti
 es Building\, Rm 213:geo:0,0
END:VEVENT
BEGIN:VTIMEZONE
TZID:America/Toronto
X-LIC-LOCATION:America/Toronto
BEGIN:STANDARD
DTSTART:20251102T010000
TZOFFSETFROM:-0400
TZOFFSETTO:-0500
TZNAME:EST
END:STANDARD
END:VTIMEZONE
END:VCALENDAR