BEGIN:VCALENDAR
VERSION:2.0
PRODID:-//wp-events-plugin.com//6.4.7.1//EN
TZID:America/Toronto
X-WR-TIMEZONE:America/Toronto
BEGIN:VEVENT
UID:77@buddhiststudies.utoronto.ca
DTSTART;TZID=America/Toronto:20191203T120000
DTEND;TZID=America/Toronto:20191203T140000
DTSTAMP:20191114T213149Z
URL:https://buddhiststudies.utoronto.ca/events/academic-podcasting-working
 -group-lunch-series/
SUMMARY:Academic Podcasting Working Group Lunch Series
DESCRIPTION:Please join us this Fall and Winter for a series of working gro
 up meetings in which we critically engage with the medium of podcasts as u
 sed for teaching and academic communication.\n\nRSVP here: https://forms.
 gle/1gwU6DyZZCxWn36Q7\n\n 	Thur. Sep 19 – Discussion: Meeting one anothe
 r and exploring podcasts\n 	Thur. Oct 10 – Workshop: Interview technique
 s with Dr. Susan McReynolds (CBC producer\, host\, director and newsreader
 )\n 	Tues. Nov 12 – Discussion: Using podcasts for teaching\n 	Tues. Dec
  3 – Workshop: Demystifying audio production and components with Jelena 
 Jurak (CBC Audio Producer)\n\n[Winter event dates and themes forthcoming]
 \n\n\n[caption id="attachment_1680" align="aligncenter" width="488"] Our f
 irst Working Group session\, Fall 2019[/caption]\n\nSusan McReynolds\, CBC
  Producer\n\nI grew up in Dublin where I attended Ard Scoil La Salle Colle
 ge. I moved to Northern Ireland to study literature at the University of U
 lster as an undergraduate and later as a PhD candidate. I completed my the
 sis in Irish women’s literature in 1999 and immediately began teaching i
 n the university’s media studies department. At around that time I also 
 started my broadcasting career\, first with BBC Northern Ireland\, later f
 or RTE (the Irish national broadcaster) and eventually making my way acros
 s the ocean to CBC. When I started at BBC\, I had no training at all. My t
 hen manager said she was willing to take a chance on hiring me and felt th
 at I had enough natural curiosity to do the right thing in an interview. I
 t seemed to work and I hosted a daily morning current affairs show for BBC
  for the next eight years. During that time\, I was also busy putting toge
 ther an academic and practical radio broadcasting undergraduate degree cou
 rse\, which I directed for three years before moving to Canada. Now I work
  as a CBC producer\, host\, director and newsreader on a variety of news\,
  current affairs and music programmes since I moved here ten years ago. So
 metimes\, I’m even the weather lady. Canada has taught me that survival 
 information is a thing. Wind chill factor and humidex have become my frien
 ds. Who knew?\n\nJelena Jurak\, CBC Audio Producer\n\nJelena Jurak has a 
 life long passion for learning about all aspects of sound. She had a fulfi
 lling career as a musician\, a record producer assistant\, an audio postpr
 oduction assistant\, and editor for Hollywood features and a live monitor 
 engineer. Her latest interest is learning about sound therapy. Jelena ini
 tially received her education in music and audio recording in Belgrade\, S
 erbia. Since making Canada her new home in 1999\, she obtained a diploma i
 n Recording Arts from Toronto Audio Recording Academy and an advanced dipl
 oma from Humber College in Film and Television Production. Over the last 
 10 years Jelena has also focused on her second career\, a registered socia
 l worker in private practice\, while continuing to work as a technical pro
 ducer for CBC’s national radio show\, Cross Country Checkup.\n
ATTACH;FMTTYPE=image/jpeg:https://buddhiststudies.utoronto.ca/wp-content/u
 ploads/2019/09/microphone-in-a-studio.jpg
CATEGORIES:Working Group
LOCATION:Jackman Humanities Building\, Rm 318\, 170 St. George St\, Toronto
 \, ON\, M5R2M8\, Canada
GEO:43.6677316;-79.4002638
X-APPLE-STRUCTURED-LOCATION;VALUE=URI;X-ADDRESS=170 St. George St\, Toronto
 \, ON\, M5R2M8\, Canada;X-APPLE-RADIUS=100;X-TITLE=Jackman Humanities Buil
 ding\, Rm 318:geo:43.6677316,-79.4002638
END:VEVENT
BEGIN:VTIMEZONE
TZID:America/Toronto
X-LIC-LOCATION:America/Toronto
BEGIN:STANDARD
DTSTART:20191103T010000
TZOFFSETFROM:-0400
TZOFFSETTO:-0500
TZNAME:EST
END:STANDARD
END:VTIMEZONE
END:VCALENDAR